BEGIN:VCALENDAR
VERSION:2.0
PRODID:-//Kollektivhus Nu - ECPv6.15.18//NONSGML v1.0//EN
CALSCALE:GREGORIAN
METHOD:PUBLISH
X-ORIGINAL-URL:https://kollektivhus.se
X-WR-CALDESC:Händelser för Kollektivhus Nu
REFRESH-INTERVAL;VALUE=DURATION:PT1H
X-Robots-Tag:noindex
X-PUBLISHED-TTL:PT1H
BEGIN:VTIMEZONE
TZID:Europe/Paris
BEGIN:DAYLIGHT
TZOFFSETFROM:+0100
TZOFFSETTO:+0200
TZNAME:CEST
DTSTART:20240331T010000
END:DAYLIGHT
BEGIN:STANDARD
TZOFFSETFROM:+0200
TZOFFSETTO:+0100
TZNAME:CET
DTSTART:20241027T010000
END:STANDARD
BEGIN:DAYLIGHT
TZOFFSETFROM:+0100
TZOFFSETTO:+0200
TZNAME:CEST
DTSTART:20250330T010000
END:DAYLIGHT
BEGIN:STANDARD
TZOFFSETFROM:+0200
TZOFFSETTO:+0100
TZNAME:CET
DTSTART:20251026T010000
END:STANDARD
BEGIN:DAYLIGHT
TZOFFSETFROM:+0100
TZOFFSETTO:+0200
TZNAME:CEST
DTSTART:20260329T010000
END:DAYLIGHT
BEGIN:STANDARD
TZOFFSETFROM:+0200
TZOFFSETTO:+0100
TZNAME:CET
DTSTART:20261025T010000
END:STANDARD
END:VTIMEZONE
BEGIN:VTIMEZONE
TZID:UTC
BEGIN:STANDARD
TZOFFSETFROM:+0000
TZOFFSETTO:+0000
TZNAME:UTC
DTSTART:20240101T000000
END:STANDARD
END:VTIMEZONE
BEGIN:VEVENT
DTSTART;TZID=Europe/Paris:20251002T080000
DTEND;TZID=Europe/Paris:20251003T170000
DTSTAMP:20260421T115637
CREATED:20250916T161757Z
LAST-MODIFIED:20250916T161757Z
UID:5519-1759392000-1759510800@kollektivhus.se
SUMMARY:Idéburet byggande i Borås
DESCRIPTION:Den 2-3 oktober är det fjärde gången för den nationella konferensen om Idéburet & socialt byggande. Konferensen\, som ordnas med två års mellanrum\, hålls i år på Textile Fashion Center i Borås. \nVI ser idag att bostadsbristen växer och kostnader för att bo ökar. Ekonomiska klyftor och utanförskap fördjupas. Samtidigt breder ensamheten ut sig både i städer och på landsbygden. I detta läge växer en kraft som sällan lyfts i den breda bostadspolitiken: idéburet och socialt byggande- och boende. \nIdéburet och socialt byggande konferensen är ett unikt tillfälle för alla som vill vara med och lägga grunden för framtidens gemensamma byggande och boende. I år utforskas temat: Den tredje vägens potential – hur bygger vi samhällen tillsammans? Den idéburna sektorn är på frammarsch\, byggande i egen regi ökar och det finns en stor kraft i att släppa in de mer konventionella formerna för byggande och boende. \nPå programmet står utblickar\, kunskap\, inspiration och erfarenhetsutbyte. Vi har talare både från Sverige\, Norden\, Holland och Zürich och kommer få höra hur och varför den tredje vägen skapar den typ av bostäder som kommersiella aktörer har svårt att åstadkomma. Exempel på seminarier som man kan välja är ”Äldre skapar utveckling. Lokala initiativ får bollen att rulla”\, ”Arkitekters roll i det idéburna byggandet” samt ”Civilsamhällets roll i samhällsbyggande på landsbygden – av egen förmåga”: Bakom konferensen står som vanligt ett stort antal aktörer\, bla Kollektivhus NU\, Chalmers och Rise. \nAnmäl dig på ideburetbyggande.se!
URL:https://kollektivhus.se/event/ideburet-byggande-i-boras/
ATTACH;FMTTYPE=image/png:https://kollektivhus.se/wp-content/uploads/2025/09/5-Socialt-byggande-2-1030x666-1.png
END:VEVENT
BEGIN:VEVENT
DTSTART;TZID=UTC:20251019T150000
DTEND;TZID=UTC:20251019T180000
DTSTAMP:20260421T115637
CREATED:20251004T170936Z
LAST-MODIFIED:20251004T170936Z
UID:6215-1760886000-1760896800@kollektivhus.se
SUMMARY:Bo bättre tillsammans – inspirationseftermiddag om bogemenskaper
DESCRIPTION:Boföreningen Framtiden ordnar en inspirationseftermiddag om bogemenskaper i Stockholm för alla intresserade. \n\nInspireras till att starta ett eget kollektivhus\nPraktiska vägar till genomförande\nOpinionsarbete för kollektivhus\n\nAnmälan vi hemsidan nedan krävs!
URL:https://kollektivhus.se/event/bo-battre-tillsammans-inspirationseftermiddag-om-bogemenskaper/
END:VEVENT
END:VCALENDAR