BEGIN:VCALENDAR
VERSION:2.0
PRODID:-//Kollektivhus Nu - ECPv6.15.18//NONSGML v1.0//EN
CALSCALE:GREGORIAN
METHOD:PUBLISH
X-WR-CALNAME:Kollektivhus Nu
X-ORIGINAL-URL:https://kollektivhus.se
X-WR-CALDESC:Händelser för Kollektivhus Nu
REFRESH-INTERVAL;VALUE=DURATION:PT1H
X-Robots-Tag:noindex
X-PUBLISHED-TTL:PT1H
BEGIN:VTIMEZONE
TZID:UTC
BEGIN:STANDARD
TZOFFSETFROM:+0000
TZOFFSETTO:+0000
TZNAME:UTC
DTSTART:20250101T000000
END:STANDARD
END:VTIMEZONE
BEGIN:VEVENT
DTSTART;TZID=UTC:20260120T170000
DTEND;TZID=UTC:20260120T191500
DTSTAMP:20260421T183852
CREATED:20260101T141651Z
LAST-MODIFIED:20260101T141651Z
UID:6879-1768928400-1768936500@kollektivhus.se
SUMMARY:Informationsträff om bygg- och bogemenskaper i Göteborg
DESCRIPTION:Den 20 januari kl. 17-19 ordnar Coompanion\, Hyresgästföreningen m.fl. en informationsträff om bygg- och bogemenskaper i Göteborg. Göteborgs stad medverkar och berättar om uppdraget i 2026 års budget om att stödja etablering av byggemenskaper. Hur kan det bidra till att underlätta för grupper som vill starta? Anmälan sker till Hyresgästföreningen genom att gå in på evenemanget på nedanstående länk. \nhttps://www.hyresgastforeningen.se/regioner/vastra-sverige/aktiviteter/nyfiken-pa-bygg–och-bogemenskap/
URL:https://kollektivhus.se/event/informationstraff-om-bygg-och-bogemenskaper-i-goteborg/
ATTACH;FMTTYPE=image/png:https://kollektivhus.se/wp-content/uploads/2026/01/Traff-Goteborg-januari-2026-e1767275180271.png
END:VEVENT
BEGIN:VEVENT
DTSTART;TZID=UTC:20260217T120000
DTEND;TZID=UTC:20260217T125500
DTSTAMP:20260421T183852
CREATED:20260206T154100Z
LAST-MODIFIED:20260206T154100Z
UID:6916-1771329600-1771332900@kollektivhus.se
SUMMARY:Trädgårdsstäder - en boendeform för alla?
DESCRIPTION:Kan trädgårdsstäder erbjuda boenden som även hyresgäster har råd att bo i? \nVälkommen på seminarium där ekonomi i trädgårdsstaden är i fokus\, den 17 februari kl. 12-12.55 på Första Lång\, Första Långgatan 17 B i Göteborg. \nAnmäl dig på länken här: https://www.hyresgastforeningen.se/regioner/vastra-sverige/aktiviteter/seminarium-tradgardsstaden/?date=2026-02-17 \nPresentation och samtal om hur 2000-talets hållbara trädgårdsstäder kan vara svaret på överkomliga bostadspriser – även för hyresgäster. Jonas Lagander från Coompanion presenterar en rapport om markgemenskap och community land trust. Om markvärdesåterföring i relation till trädgårdsstäder. \nSamtalet är en del av forskningsprojektet Idéburen och gemensam bostadsförsörjning\, där Hyresgäst­föreningen medverkar tillsammans med Coompanion Göteborgsregionen och Östergötland\, Göteborgs universitet genom Göteborgs forskningsinstitut\, Orust kommun samt Egnahemsfabriken. \nTillsammans arbetar vi med att förstå och undanröja de hinder som i dag möter bygg- och bogemenskaper i Sverige\, till exempel kring finansiering\, organisationsformer och hur inkluderande processer kan se ut i praktiken.
URL:https://kollektivhus.se/event/tradgardsstader-en-boendeform-for-alla/
ATTACH;FMTTYPE=image/png:https://kollektivhus.se/wp-content/uploads/2026/02/Tradgardsstad-e1770392793179.png
END:VEVENT
BEGIN:VEVENT
DTSTART;TZID=UTC:20260217T170000
DTEND;TZID=UTC:20260217T191500
DTSTAMP:20260421T183852
CREATED:20260206T155954Z
LAST-MODIFIED:20260206T160121Z
UID:6929-1771347600-1771355700@kollektivhus.se
SUMMARY:Seminar: Right to the land - affordable housing in garden cities
DESCRIPTION:Welcome to a seminar with Martin Large\, an expert on garden cities\, the 17th of February 17.00-19.15 at Första Långgatan 17 B\, Göteborg.  \nWe will discuss what is needed to develop garden cities. (The seminar will be held in English). \nTo participate you have to register here: https://www.hyresgastforeningen.se/regioner/vastra-sverige/aktiviteter/seminarium-ratten-till-jorden/?date=2026-02-17 \nWho and what determines land value when a city plans for growth initiatives and sustainable housing development? Who benefits from land value increases? Can the logic of the market be replaced with another logic? What would be required to develop 21st‑century garden cities — so widely desired and at a cost that is affordable\, even for tenants? \nWe will listen to a presentation by Martin Large (founding director of Stroud Common Wealth Ltd.\, UK)\, an expert on garden cities and land value capture for public benefit\, followed by a panel discussion where we explore the issue from different perspectives. \nThe discussion is part of the research project Non‑profit and Collective Housing Provision\, in which the Swedish Union of Tenants participates together with Coompanion Göteborg Region and Östergötland\, the University of Gothenburg through the Gothenburg Research Institute\, Orust Municipality\, and Egnahemsfabriken.
URL:https://kollektivhus.se/event/seminar-right-to-the-land-affordable-housing-in-garden-cities/
END:VEVENT
END:VCALENDAR