BEGIN:VCALENDAR
VERSION:2.0
PRODID:-//Kollektivhus Nu - ECPv6.15.18//NONSGML v1.0//EN
CALSCALE:GREGORIAN
METHOD:PUBLISH
X-ORIGINAL-URL:https://kollektivhus.se
X-WR-CALDESC:Händelser för Kollektivhus Nu
REFRESH-INTERVAL;VALUE=DURATION:PT1H
X-Robots-Tag:noindex
X-PUBLISHED-TTL:PT1H
BEGIN:VTIMEZONE
TZID:UTC
BEGIN:STANDARD
TZOFFSETFROM:+0000
TZOFFSETTO:+0000
TZNAME:UTC
DTSTART:20240101T000000
END:STANDARD
END:VTIMEZONE
BEGIN:VEVENT
DTSTART;TZID=UTC:20251118T130000
DTEND;TZID=UTC:20251118T170000
DTSTAMP:20260421T152947
CREATED:20251010T100343Z
LAST-MODIFIED:20251010T101116Z
UID:6297-1763470800-1763485200@kollektivhus.se
SUMMARY:Användardrivet bostadsbyggande – en tredje väg
DESCRIPTION:Bostadssektorn är i kris – igen. Allt fler bostäder står outhyrda eller osålda samtidigt som många inte har råd att betala ständigt ökande boendekostnader. Och recepten är de gamla vanliga – avreglering och storskalig nyproduktion på större orter.\nMen det finns alternativ. Små\, lokalt initierade och förankrade projekt genomförs runt om i landet. Ett arbetssätt som också finns runt om i Europa\, bland annat i Danmark\, Norge\, Tyskland\, Nederländerna och Österrike.\nSedan 2019 har sådana alternativa sätt att bo och planera diskuterats på konferensen Idéburet och Socialt byggande. Konferensen har genomförts i Västsverige vid fyra tillfällen i Göteborg 2019\, Floda 2021\, Bergsjön 2023 och nu senast Borås 2025. Den har blivit en samlingspunkt för många som letar efter alternativ till dagens bostadsproduktion\, alternativ baserade på engagemang och långsiktighet.\nSedan i våras har en grupp i Stockholm arbetat för att få en igång en liknande diskussion i Stockholmsregionen. Vi har alla medverkat eller deltagit i någon av konferenserna om Idéburet byggande och vårt arbete är ett komplement till dessa.\nFörsta steget i Stockholmsområdet är den planerade projektrevyn om användardrivet bostadsbyggande den 18 november. Vi kommer att fortsätta med att ordna tillfällen att möta allt intressant som pågår utanför huvudfåran. Det behövs alternativ\, en tredje väg! \nArrangemanget är gratis. Mer information och anmälan:\nInbjudan\nAnmälan
URL:https://kollektivhus.se/event/anvandardrivet-bostadsbyggande-en-tredje-vag/
LOCATION:KTH Arkitekturskolan   Sal A108\, Osquars Backe 5\, Stockholm
CATEGORIES:seminarium
ATTACH;FMTTYPE=image/jpeg:https://kollektivhus.se/wp-content/uploads/2025/10/publiken_6702-1.jpg
END:VEVENT
END:VCALENDAR